BEGIN:VCALENDAR
VERSION:2.0
PRODID:-//ChamberMaster//Event Calendar 2.0//EN
METHOD:PUBLISH
X-PUBLISHED-TTL:P3D
REFRESH-INTERVAL:P3D
CALSCALE:GREGORIAN
BEGIN:VEVENT
DTSTART;VALUE=DATE:20090910
DTEND;VALUE=DATE:20090911
TRANSP:TRANSPARENT
X-MICROSOFT-CDO-ALLDAYEVENT:TRUE
SUMMARY:September 10th 2009 New Member Breakfast
DESCRIPTION:
X-ALT-DESC;FMTTYPE=text/html:
LOCATION:
UID:e.822.300
SEQUENCE:3
DTSTAMP:20260422T005958Z
URL:https://members.northamptonchamber.com/events/details/september-10th-2009-new-member-breakfast-09-10-2009-300
END:VEVENT

END:VCALENDAR
