BEGIN:VCALENDAR
VERSION:2.0
PRODID:-//ChamberMaster//Event Calendar 2.0//EN
METHOD:PUBLISH
X-PUBLISHED-TTL:P3D
REFRESH-INTERVAL:P3D
CALSCALE:GREGORIAN
BEGIN:VEVENT
DTSTART:20111213T170000Z
DTEND:20111213T180000Z
X-MICROSOFT-CDO-ALLDAYEVENT:FALSE
SUMMARY:New Member Info Session -December 2011
DESCRIPTION:This is the chance to......\n\n\n	\n		tell us more about your business and how the Chamber can best serve you\n	\n		meet other new members\n	\n		tell you how to make to the most of your Chamber membership\n\n\n	RSVP to 584-1900 or rsvp@explorenorthampton.com\n\n	A light lunch will be served
X-ALT-DESC;FMTTYPE=text/html:This is the chance to......<br />\n<ul>\n	<li>\n		tell us more about your business and how the Chamber can best serve you</li>\n	<li>\n		meet other new members</li>\n	<li>\n		tell you how to make to the most of your Chamber membership</li>\n</ul>\n<p>\n	RSVP to 584-1900 or rsvp@explorenorthampton.com<br />\n	A light&nbsp\;lunch will be served</p>\n<br />\n
LOCATION:Greater Northampton Chmaber of Commerce Offices 99 Pleasant Street Northampton
UID:e.822.414
SEQUENCE:3
DTSTAMP:20260421T084421Z
URL:https://members.northamptonchamber.com/events/details/new-member-info-session-december-2011-12-13-2011-414
END:VEVENT

END:VCALENDAR
