BEGIN:VCALENDAR
VERSION:2.0
PRODID:-//ChamberMaster//Event Calendar 2.0//EN
METHOD:PUBLISH
X-PUBLISHED-TTL:P3D
REFRESH-INTERVAL:P3D
CALSCALE:GREGORIAN
BEGIN:VEVENT
DTSTART;VALUE=DATE:20090515
DTEND;VALUE=DATE:20090516
TRANSP:TRANSPARENT
X-MICROSOFT-CDO-ALLDAYEVENT:TRUE
SUMMARY:May 15th 2009 New Member Lunch
DESCRIPTION:
X-ALT-DESC;FMTTYPE=text/html:
LOCATION:
UID:e.822.298
SEQUENCE:3
DTSTAMP:20260424T084012Z
URL:https://members.northamptonchamber.com/events/details/may-15th-2009-new-member-lunch-05-15-2009-298
END:VEVENT

END:VCALENDAR
