BEGIN:VCALENDAR
VERSION:2.0
PRODID:-//ChamberMaster//Event Calendar 2.0//EN
METHOD:PUBLISH
X-PUBLISHED-TTL:P3D
REFRESH-INTERVAL:P3D
CALSCALE:GREGORIAN
BEGIN:VEVENT
DTSTART;VALUE=DATE:20091201
DTEND;VALUE=DATE:20091202
TRANSP:TRANSPARENT
X-MICROSOFT-CDO-ALLDAYEVENT:TRUE
SUMMARY:Mass Privacy Law Seminar II
DESCRIPTION:
X-ALT-DESC;FMTTYPE=text/html:
LOCATION:
UID:e.822.332
SEQUENCE:3
DTSTAMP:20260421T192423Z
URL:https://members.northamptonchamber.com/events/details/mass-privacy-law-seminar-ii-12-01-2009-332
END:VEVENT

END:VCALENDAR
