BEGIN:VCALENDAR
VERSION:2.0
PRODID:-//ChamberMaster//Event Calendar 2.0//EN
METHOD:PUBLISH
X-PUBLISHED-TTL:P3D
REFRESH-INTERVAL:P3D
CALSCALE:GREGORIAN
BEGIN:VEVENT
DTSTART;VALUE=DATE:20090303
DTEND;VALUE=DATE:20090304
TRANSP:TRANSPARENT
X-MICROSOFT-CDO-ALLDAYEVENT:TRUE
SUMMARY:March 3rd 2009 New Member Breakfast
DESCRIPTION:
X-ALT-DESC;FMTTYPE=text/html:
LOCATION:
UID:e.822.297
SEQUENCE:3
DTSTAMP:20260424T120034Z
URL:https://members.northamptonchamber.com/events/details/march-3rd-2009-new-member-breakfast-03-03-2009-297
END:VEVENT

END:VCALENDAR
