BEGIN:VCALENDAR
VERSION:2.0
PRODID:-//ChamberMaster//Event Calendar 2.0//EN
METHOD:PUBLISH
X-PUBLISHED-TTL:P3D
REFRESH-INTERVAL:P3D
CALSCALE:GREGORIAN
BEGIN:VEVENT
DTSTART;VALUE=DATE:20081028
DTEND;VALUE=DATE:20081029
TRANSP:TRANSPARENT
X-MICROSOFT-CDO-ALLDAYEVENT:TRUE
SUMMARY:Information Session -Tuesday\, October 28th 2008
DESCRIPTION:
X-ALT-DESC;FMTTYPE=text/html:
LOCATION:
UID:e.822.277
SEQUENCE:3
DTSTAMP:20260424T210906Z
URL:https://members.northamptonchamber.com/events/details/information-session-tuesday-october-28th-2008-10-28-2008-277
END:VEVENT

END:VCALENDAR
