BEGIN:VCALENDAR
VERSION:2.0
PRODID:-//ChamberMaster//Event Calendar 2.0//EN
METHOD:PUBLISH
X-PUBLISHED-TTL:P3D
REFRESH-INTERVAL:P3D
CALSCALE:GREGORIAN
BEGIN:VEVENT
DTSTART;VALUE=DATE:20081016
DTEND;VALUE=DATE:20081017
TRANSP:TRANSPARENT
X-MICROSOFT-CDO-ALLDAYEVENT:TRUE
SUMMARY:Information Session -Thursday\, October 16th 2008
DESCRIPTION:
X-ALT-DESC;FMTTYPE=text/html:
LOCATION:
UID:e.822.276
SEQUENCE:3
DTSTAMP:20260424T210844Z
URL:https://members.northamptonchamber.com/events/details/information-session-thursday-october-16th-2008-10-16-2008-276
END:VEVENT

END:VCALENDAR
