BEGIN:VCALENDAR
VERSION:2.0
PRODID:-//ChamberMaster//Event Calendar 2.0//EN
METHOD:PUBLISH
X-PUBLISHED-TTL:P3D
REFRESH-INTERVAL:P3D
CALSCALE:GREGORIAN
BEGIN:VEVENT
DTSTART;VALUE=DATE:20081010
DTEND;VALUE=DATE:20081011
TRANSP:TRANSPARENT
X-MICROSOFT-CDO-ALLDAYEVENT:TRUE
SUMMARY:Information Session -Friday\, October 10th 2008
DESCRIPTION:
X-ALT-DESC;FMTTYPE=text/html:
LOCATION:
UID:e.822.275
SEQUENCE:3
DTSTAMP:20260424T212254Z
URL:https://members.northamptonchamber.com/events/details/information-session-friday-october-10th-2008-10-10-2008-275
END:VEVENT

END:VCALENDAR
