BEGIN:VCALENDAR
VERSION:2.0
PRODID:-//ChamberMaster//Event Calendar 2.0//EN
METHOD:PUBLISH
X-PUBLISHED-TTL:P3D
REFRESH-INTERVAL:P3D
CALSCALE:GREGORIAN
BEGIN:VEVENT
DTSTART;VALUE=DATE:20100212
DTEND;VALUE=DATE:20100213
TRANSP:TRANSPARENT
X-MICROSOFT-CDO-ALLDAYEVENT:TRUE
SUMMARY:February 12th 2010 New Member Info Session
DESCRIPTION:
X-ALT-DESC;FMTTYPE=text/html:
LOCATION:
UID:e.822.340
SEQUENCE:3
DTSTAMP:20260421T115721Z
URL:https://members.northamptonchamber.com/events/details/february-12th-2010-new-member-info-session-02-12-2010-340
END:VEVENT

END:VCALENDAR
