BEGIN:VCALENDAR
VERSION:2.0
PRODID:-//ChamberMaster//Event Calendar 2.0//EN
METHOD:PUBLISH
X-PUBLISHED-TTL:P3D
REFRESH-INTERVAL:P3D
CALSCALE:GREGORIAN
BEGIN:VEVENT
DTSTART;VALUE=DATE:20091211
DTEND;VALUE=DATE:20091212
TRANSP:TRANSPARENT
X-MICROSOFT-CDO-ALLDAYEVENT:TRUE
SUMMARY:December 11th 2009 New Member Breakfast
DESCRIPTION:
X-ALT-DESC;FMTTYPE=text/html:
LOCATION:
UID:e.822.302
SEQUENCE:3
DTSTAMP:20260421T192649Z
URL:https://members.northamptonchamber.com/events/details/december-11th-2009-new-member-breakfast-12-11-2009-302
END:VEVENT

END:VCALENDAR
