BEGIN:VCALENDAR
VERSION:2.0
PRODID:-//ChamberMaster//Event Calendar 2.0//EN
METHOD:PUBLISH
X-PUBLISHED-TTL:P3D
REFRESH-INTERVAL:P3D
CALSCALE:GREGORIAN
BEGIN:VEVENT
DTSTART:20110317T113000Z
DTEND:20110317T130000Z
X-MICROSOFT-CDO-ALLDAYEVENT:FALSE
SUMMARY:2011 St. Patrick's Breakfast
DESCRIPTION:31st Annual St. Patrick's Day Breakfast\n\nMaster of Ceremonies -Bob Flaherty
X-ALT-DESC;FMTTYPE=text/html:31st Annual St. Patrick&#39\;s Day Breakfast<br />\nMaster of Ceremonies -Bob Flaherty
LOCATION:Pages Loft Restaurant and Events At the Clarion Hotel & Conference Center Atwood Drive -Northampton
UID:e.822.391
SEQUENCE:3
DTSTAMP:20260420T123632Z
URL:https://members.northamptonchamber.com/events/details/2011-st-patrick-s-breakfast-03-17-2011-391
END:VEVENT

END:VCALENDAR
