BEGIN:VCALENDAR
VERSION:2.0
PRODID:-//ChamberMaster//Event Calendar 2.0//EN
METHOD:PUBLISH
X-PUBLISHED-TTL:P3D
REFRESH-INTERVAL:P3D
CALSCALE:GREGORIAN
BEGIN:VEVENT
DTSTART:20110302T220000Z
DTEND:20110303T000000Z
X-MICROSOFT-CDO-ALLDAYEVENT:FALSE
SUMMARY:2011 March 2nd Arrive @5
DESCRIPTION:Northampton Chamber Monthly Arrive @5\n\n	\n\n	Arrive when you can\, Stay as long as you can!\n\n	A casual mix and mingle with your colleagues and friends.\n\n	\n\n	Hosted by Page's Loft Restaurant and Events\n\n	(at the Clarion Hotel and Conference Center)\n\n	One Atwood Drive\, Northampton\n\n	\n\n	Sponsored by Calvin Coolidge Nursing and Rehabilitation for Northampton.
X-ALT-DESC;FMTTYPE=text/html:<p style="text-align: center">\n	<strong>Northampton Chamber Monthly Arrive @5</strong><br />\n	<br />\n	Arrive when you can\, Stay as long as you can!<br />\n	A casual mix and mingle with your colleagues and friends.<br />\n	<br />\n	Hosted by Page&#39\;s Loft Restaurant and Events<br />\n	(at the Clarion Hotel and Conference Center)<br />\n	One Atwood Drive\, Northampton<br />\n	<br />\n	Sponsored by Calvin Coolidge Nursing and Rehabilitation for Northampton.<br />\n	<br />\n	&nbsp\;</p>\n
LOCATION:The Clarion Hotel & Conference Center 1 Atwood Drive Northampton\, MA
UID:e.822.382
SEQUENCE:3
DTSTAMP:20260420T085041Z
URL:https://members.northamptonchamber.com/events/details/2011-march-2nd-arrive-5-03-02-2011-382
END:VEVENT

END:VCALENDAR
