BEGIN:VCALENDAR
VERSION:2.0
PRODID:-//ChamberMaster//Event Calendar 2.0//EN
METHOD:PUBLISH
X-PUBLISHED-TTL:P3D
REFRESH-INTERVAL:P3D
CALSCALE:GREGORIAN
BEGIN:VEVENT
DTSTART:20110601T210000Z
DTEND:20110601T230000Z
X-MICROSOFT-CDO-ALLDAYEVENT:FALSE
SUMMARY:2011 June 1st Arrive @5
DESCRIPTION:Northampton Chamber Monthly Arrive @5\n\n	\n\n	Arrive when you can\, Stay as long as you can!\n\n	A casual mix and mingle with your colleagues and friends.\n\n	\n\n	A2Z Science & Learning and NEF present the Northampton Education Foundation Showcase at\n\n	The Hotel Northampton\, 36 King Street\, Downtown Northampton.
X-ALT-DESC;FMTTYPE=text/html:<p style="text-align: center">\n	<strong>Northampton Chamber Monthly Arrive @5</strong><br />\n	<br />\n	Arrive when you can\, Stay as long as you can!<br />\n	A casual mix and mingle with your colleagues and friends.<br />\n	<br />\n	A2Z Science &amp\; Learning&nbsp\;and NEF present the Northampton Education Foundation Showcase at<br />\n	The Hotel Northampton\, 36 King Street\, Downtown Northampton.<br />\n	<br />\n	&nbsp\;</p>\n
LOCATION:The Hotel Northampton 36 King Street Downtown Northampton
UID:e.822.401
SEQUENCE:3
DTSTAMP:20260420T093411Z
URL:https://members.northamptonchamber.com/events/details/2011-june-1st-arrive-5-06-01-2011-401
END:VEVENT

END:VCALENDAR
