BEGIN:VCALENDAR
VERSION:2.0
PRODID:-//ChamberMaster//Event Calendar 2.0//EN
METHOD:PUBLISH
X-PUBLISHED-TTL:P3D
REFRESH-INTERVAL:P3D
CALSCALE:GREGORIAN
BEGIN:VEVENT
DTSTART;VALUE=DATE:20091027
DTEND;VALUE=DATE:20091028
TRANSP:TRANSPARENT
X-MICROSOFT-CDO-ALLDAYEVENT:TRUE
SUMMARY:2009 October 27 Prospect Event
DESCRIPTION:
X-ALT-DESC;FMTTYPE=text/html:
LOCATION:
UID:e.822.328
SEQUENCE:3
DTSTAMP:20260421T231659Z
URL:https://members.northamptonchamber.com/events/details/2009-october-27-prospect-event-10-27-2009-328
END:VEVENT

END:VCALENDAR
