BEGIN:VCALENDAR
VERSION:2.0
PRODID:-//ChamberMaster//Event Calendar 2.0//EN
METHOD:PUBLISH
X-PUBLISHED-TTL:P3D
REFRESH-INTERVAL:P3D
CALSCALE:GREGORIAN
BEGIN:VEVENT
DTSTART;VALUE=DATE:20090304
DTEND;VALUE=DATE:20090305
TRANSP:TRANSPARENT
X-MICROSOFT-CDO-ALLDAYEVENT:TRUE
SUMMARY:2009 March 4th Arrive @5
DESCRIPTION:
X-ALT-DESC;FMTTYPE=text/html:
LOCATION:
UID:e.822.286
SEQUENCE:3
DTSTAMP:20260424T120753Z
URL:https://members.northamptonchamber.com/events/details/2009-march-4th-arrive-5-03-04-2009-286
END:VEVENT

END:VCALENDAR
