BEGIN:VCALENDAR
VERSION:2.0
PRODID:-//ChamberMaster//Event Calendar 2.0//EN
METHOD:PUBLISH
X-PUBLISHED-TTL:P3D
REFRESH-INTERVAL:P3D
CALSCALE:GREGORIAN
BEGIN:VEVENT
DTSTART;VALUE=DATE:20090204
DTEND;VALUE=DATE:20090205
TRANSP:TRANSPARENT
X-MICROSOFT-CDO-ALLDAYEVENT:TRUE
SUMMARY:2009 February 4th Arrive @5
DESCRIPTION:
X-ALT-DESC;FMTTYPE=text/html:
LOCATION:
UID:e.822.283
SEQUENCE:3
DTSTAMP:20260424T134854Z
URL:https://members.northamptonchamber.com/events/details/2009-february-4th-arrive-5-02-04-2009-283
END:VEVENT

END:VCALENDAR
