BEGIN:VCALENDAR
VERSION:2.0
PRODID:-//ChamberMaster//Event Calendar 2.0//EN
METHOD:PUBLISH
X-PUBLISHED-TTL:P3D
REFRESH-INTERVAL:P3D
CALSCALE:GREGORIAN
BEGIN:VEVENT
DTSTART;VALUE=DATE:20090224
DTEND;VALUE=DATE:20090225
TRANSP:TRANSPARENT
X-MICROSOFT-CDO-ALLDAYEVENT:TRUE
SUMMARY:2009 February 24th Meet & Eat
DESCRIPTION:
X-ALT-DESC;FMTTYPE=text/html:
LOCATION:
UID:e.822.284
SEQUENCE:3
DTSTAMP:20260424T135235Z
URL:https://members.northamptonchamber.com/events/details/2009-february-24th-meet-eat-02-24-2009-284
END:VEVENT

END:VCALENDAR
