BEGIN:VCALENDAR
VERSION:2.0
PRODID:-//ChamberMaster//Event Calendar 2.0//EN
METHOD:PUBLISH
X-PUBLISHED-TTL:P3D
REFRESH-INTERVAL:P3D
CALSCALE:GREGORIAN
BEGIN:VEVENT
DTSTART;VALUE=DATE:20090401
DTEND;VALUE=DATE:20090402
TRANSP:TRANSPARENT
X-MICROSOFT-CDO-ALLDAYEVENT:TRUE
SUMMARY:2009 April 1st Arrive @5
DESCRIPTION:
X-ALT-DESC;FMTTYPE=text/html:
LOCATION:
UID:e.822.288
SEQUENCE:3
DTSTAMP:20260424T110116Z
URL:https://members.northamptonchamber.com/events/details/2009-april-1st-arrive-5-04-01-2009-288
END:VEVENT

END:VCALENDAR
