BEGIN:VCALENDAR
VERSION:2.0
PRODID:-//ChamberMaster//Event Calendar 2.0//EN
METHOD:PUBLISH
X-PUBLISHED-TTL:P3D
REFRESH-INTERVAL:P3D
CALSCALE:GREGORIAN
BEGIN:VEVENT
DTSTART;VALUE=DATE:20081001
DTEND;VALUE=DATE:20081002
TRANSP:TRANSPARENT
X-MICROSOFT-CDO-ALLDAYEVENT:TRUE
SUMMARY:2008 October 1st Arrive @5
DESCRIPTION:
X-ALT-DESC;FMTTYPE=text/html:
LOCATION:
UID:e.822.253
SEQUENCE:3
DTSTAMP:20260424T210839Z
URL:https://members.northamptonchamber.com/events/details/2008-october-1st-arrive-5-10-01-2008-253
END:VEVENT

END:VCALENDAR
