BEGIN:VCALENDAR
VERSION:2.0
PRODID:-//ChamberMaster//Event Calendar 2.0//EN
METHOD:PUBLISH
X-PUBLISHED-TTL:P3D
REFRESH-INTERVAL:P3D
CALSCALE:GREGORIAN
BEGIN:VEVENT
DTSTART;VALUE=DATE:20080709
DTEND;VALUE=DATE:20080710
TRANSP:TRANSPARENT
X-MICROSOFT-CDO-ALLDAYEVENT:TRUE
SUMMARY:2008 July 9th Arrive @5
DESCRIPTION:
X-ALT-DESC;FMTTYPE=text/html:
LOCATION:
UID:e.822.250
SEQUENCE:3
DTSTAMP:20260425T021307Z
URL:https://members.northamptonchamber.com/events/details/2008-july-9th-arrive-5-07-09-2008-250
END:VEVENT

END:VCALENDAR
