BEGIN:VCALENDAR
VERSION:2.0
PRODID:-//ChamberMaster//Event Calendar 2.0//EN
METHOD:PUBLISH
X-PUBLISHED-TTL:P3D
REFRESH-INTERVAL:P3D
CALSCALE:GREGORIAN
BEGIN:VEVENT
DTSTART;VALUE=DATE:20080212
DTEND;VALUE=DATE:20080213
TRANSP:TRANSPARENT
X-MICROSOFT-CDO-ALLDAYEVENT:TRUE
SUMMARY:2008 February Meet & Eat
DESCRIPTION:
X-ALT-DESC;FMTTYPE=text/html:
LOCATION:
UID:e.822.233
SEQUENCE:3
DTSTAMP:20260425T105118Z
URL:https://members.northamptonchamber.com/events/details/2008-february-meet-eat-02-12-2008-233
END:VEVENT

END:VCALENDAR
