BEGIN:VCALENDAR
VERSION:2.0
PRODID:-//ChamberMaster//Event Calendar 2.0//EN
METHOD:PUBLISH
X-PUBLISHED-TTL:P3D
REFRESH-INTERVAL:P3D
CALSCALE:GREGORIAN
BEGIN:VEVENT
DTSTART;VALUE=DATE:20070918
DTEND;VALUE=DATE:20070919
TRANSP:TRANSPARENT
X-MICROSOFT-CDO-ALLDAYEVENT:TRUE
SUMMARY:2007 September Meet & Eat
DESCRIPTION:
X-ALT-DESC;FMTTYPE=text/html:
LOCATION:
UID:e.822.213
SEQUENCE:3
DTSTAMP:20260425T200551Z
URL:https://members.northamptonchamber.com/events/details/2007-september-meet-eat-09-18-2007-213
END:VEVENT

END:VCALENDAR
