BEGIN:VCALENDAR
VERSION:2.0
PRODID:-//ChamberMaster//Event Calendar 2.0//EN
METHOD:PUBLISH
X-PUBLISHED-TTL:P3D
REFRESH-INTERVAL:P3D
CALSCALE:GREGORIAN
BEGIN:VEVENT
DTSTART;VALUE=DATE:20070619
DTEND;VALUE=DATE:20070620
TRANSP:TRANSPARENT
X-MICROSOFT-CDO-ALLDAYEVENT:TRUE
SUMMARY:2007 June Meet & Eat
DESCRIPTION:
X-ALT-DESC;FMTTYPE=text/html:
LOCATION:
UID:e.822.210
SEQUENCE:3
DTSTAMP:20260426T010838Z
URL:https://members.northamptonchamber.com/events/details/2007-june-meet-eat-06-19-2007-210
END:VEVENT

END:VCALENDAR
